BEGIN:VCALENDAR
VERSION:2.0
PRODID:-//Plone.org//NONSGML plone.app.event//EN
X-WR-TIMEZONE:America/Toronto
BEGIN:VEVENT
SUMMARY:Workshop on immersive audio and the future of live sound
DTSTART;TZID=America/Montreal;VALUE=DATE-TIME:20190603T093000
DTEND;TZID=America/Montreal;VALUE=DATE-TIME:20190603T160000
DTSTAMP;VALUE=DATE-TIME:20260421T175556Z
UID:f9b38e12f375467da3f2bb9cc68b9bfd@project_zeoclients
CREATED;VALUE=DATE-TIME:20210321T215604Z
DESCRIPTION:A workshop presented by Research Axis 3 (Cognition\, perceptio
 n and movement). The event will consist of both a morning and afternoon se
 ssion of talks and demonstrations\, followed by a round table.
LAST-MODIFIED;VALUE=DATE-TIME:20210321T215605Z
LOCATION:Room A832\, Elizabeth Wirth Music Building\, 527 Sherbrooke St. W
 .
URL:https://www.cirmmt.org/en/events/workshops/research/ra3-260419/immersi
 ve_audio
END:VEVENT
BEGIN:VTIMEZONE
TZID:America/Montreal
X-LIC-LOCATION:America/Montreal
BEGIN:DAYLIGHT
DTSTART;VALUE=DATE-TIME:20190310T030000
TZNAME:EDT
TZOFFSETFROM:-0500
TZOFFSETTO:-0400
END:DAYLIGHT
END:VTIMEZONE
END:VCALENDAR
