BEGIN:VCALENDAR
VERSION:2.0
PRODID:-//Plone.org//NONSGML plone.app.event//EN
X-WR-TIMEZONE:America/Toronto
BEGIN:VEVENT
SUMMARY:Composing and performing with Digital Musical Instruments
DTSTART;TZID=America/Toronto;VALUE=DATE-TIME:20231201T100000
DTEND;TZID=America/Toronto;VALUE=DATE-TIME:20231201T130000
DTSTAMP;VALUE=DATE-TIME:20260421T111419Z
UID:971066bec24e49c2923d7d0365b79343@project_zeoclients
CONTACT:RA4 Student Coordiantor\, gael.moriceau@umontreal.ca
CREATED;VALUE=DATE-TIME:20231108T192706Z
DESCRIPTION:Organized by CIRMMT RA 4\, this workshop will discuss the vari
 ous aspects implied in the composition and performance with Digital Musica
 l Instruments (DMI). The purpose of the workshop is to encourage DMI pract
 ice and stimulate creativity in the community.
LAST-MODIFIED;VALUE=DATE-TIME:20231128T163148Z
LOCATION:A-832\, 8th floor\, Elizabeth Wirth Music Building\, 527 Sherbroo
 ke O.
URL:https://www.cirmmt.org/en/events/workshops/research/ra4-workshop-meeti
 ng-dec23
END:VEVENT
BEGIN:VTIMEZONE
TZID:America/Toronto
X-LIC-LOCATION:America/Toronto
BEGIN:STANDARD
DTSTART;VALUE=DATE-TIME:20231105T010000
TZNAME:EST
TZOFFSETFROM:-0400
TZOFFSETTO:-0500
END:STANDARD
END:VTIMEZONE
END:VCALENDAR
