BEGIN:VCALENDAR
VERSION:2.0
PRODID:-//Plone.org//NONSGML plone.app.event//EN
X-WR-TIMEZONE:America/Toronto
BEGIN:VEVENT
SUMMARY:GLAM-MIR 1: Galleries\, Libraries\, Archives\, Museums and Music I
 nformation Retrieval
DTSTART;TZID=America/Toronto;VALUE=DATE-TIME:20240406T090000
DTEND;TZID=America/Toronto;VALUE=DATE-TIME:20240406T140000
DTSTAMP;VALUE=DATE-TIME:20260421T122422Z
UID:59236aa19e064388b5f6c14788e15e5c@project_zeoclients
CONTACT:Cory McKay\, cory.mckay@mail.mcgill.ca
CREATED;VALUE=DATE-TIME:20240315T172504Z
DESCRIPTION:A workshop organized by CIRMMT Research Axis 2.
LAST-MODIFIED;VALUE=DATE-TIME:20240315T200144Z
LOCATION:A-832 (8th floor)\, 527 Sherbrooke St W\, Montreal\, QC H3A 1E3
URL:https://www.cirmmt.org/en/events/workshops/research/ra_2-workshop-apri
 l24
END:VEVENT
BEGIN:VTIMEZONE
TZID:America/Toronto
X-LIC-LOCATION:America/Toronto
BEGIN:DAYLIGHT
DTSTART;VALUE=DATE-TIME:20240310T030000
TZNAME:EDT
TZOFFSETFROM:-0500
TZOFFSETTO:-0400
END:DAYLIGHT
END:VTIMEZONE
END:VCALENDAR
