BEGIN:VCALENDAR
VERSION:2.0
PRODID:-//Plone.org//NONSGML plone.app.event//EN
X-WR-TIMEZONE:America/Toronto
BEGIN:VEVENT
SUMMARY:Workshop on SIMSSA XII
DTSTART;TZID=America/Montreal;VALUE=DATE-TIME:20170807T090000
DTEND;TZID=America/Montreal;VALUE=DATE-TIME:20170807T143000
DTSTAMP;VALUE=DATE-TIME:20260421T193308Z
UID:860cbff25230457ea4e4b33c53e5218e@project_zeoclients
CREATED;VALUE=DATE-TIME:20210321T215606Z
DESCRIPTION:This workshop is co-organized by CIRMMT Research Axis 2 (Music
  information research) and SIMSSA. This workshop is free and open to all. 
 Registration is required. 
LAST-MODIFIED;VALUE=DATE-TIME:20210321T215606Z
LOCATION:A832\, Elizabeth Wirth Music Building\, 527 Sherbrooke St. West
URL:https://www.cirmmt.org/en/events/workshops/research/simssa-xii-worksho
 p/simssaworkshopxii
END:VEVENT
BEGIN:VTIMEZONE
TZID:America/Montreal
X-LIC-LOCATION:America/Montreal
BEGIN:DAYLIGHT
DTSTART;VALUE=DATE-TIME:20170312T030000
TZNAME:EDT
TZOFFSETFROM:-0500
TZOFFSETTO:-0400
END:DAYLIGHT
END:VTIMEZONE
END:VCALENDAR
