BEGIN:VCALENDAR
VERSION:2.0
PRODID:-//Plone.org//NONSGML plone.app.event//EN
X-WR-TIMEZONE:America/Toronto
BEGIN:VEVENT
SUMMARY:Workshop: Carmine Cella
DTSTART;TZID=America/Toronto;VALUE=DATE-TIME:20211005T140000
DTEND;TZID=America/Toronto;VALUE=DATE-TIME:20211005T153000
DTSTAMP;VALUE=DATE-TIME:20260421T150658Z
UID:80f5471341e24685b5960929b888bdbb@project_zeoclients
CONTACT:cirmmt.info[AT]mcgill.ca\, cirmmt.info@mcgill.ca\, https://levivie
 r.ca/en/extra-muros/2021-22-season/inter-university-meetings-master-classe
 s
CREATED;VALUE=DATE-TIME:20211008T181644Z
DESCRIPTION:Presented by CIRMMT's Research Axis 4 and as part of Le Vivier
 's series of inter-university meetings\, "Résonance croisée"
LAST-MODIFIED;VALUE=DATE-TIME:20211008T181711Z
LOCATION:MMR\, Elizabeth Wirth Music Building
URL:https://www.cirmmt.org/en/events/workshops/research/smart-instruments
END:VEVENT
BEGIN:VTIMEZONE
TZID:America/Toronto
X-LIC-LOCATION:America/Toronto
BEGIN:DAYLIGHT
DTSTART;VALUE=DATE-TIME:20210314T030000
TZNAME:EDT
TZOFFSETFROM:-0500
TZOFFSETTO:-0400
END:DAYLIGHT
END:VTIMEZONE
END:VCALENDAR
