BEGIN:VCALENDAR
VERSION:2.0
PRODID:-//Plone.org//NONSGML plone.app.event//EN
X-WR-TIMEZONE:America/Toronto
BEGIN:VEVENT
SUMMARY:Space3D: A General model for three dimensional spatial processing 
 of sounds
DTSTART;TZID=America/Toronto;VALUE=DATE-TIME:20250626T150000
DTEND;TZID=America/Toronto;VALUE=DATE-TIME:20250626T163000
DTSTAMP;VALUE=DATE-TIME:20260421T122412Z
UID:e6e5d2dd4c174e368e2f54912ecd0a97@project_zeoclients
CONTACT:info [AT] cirmmt (DOT] org
CREATED;VALUE=DATE-TIME:20250604T153443Z
LAST-MODIFIED;VALUE=DATE-TIME:20250626T170837Z
LOCATION:Multimedia Room MMR (-2 floor)\, Elizabeth Wirth Music Building\,
  527 Sherbrooke O
URL:https://www.cirmmt.org/en/events/workshops/research/space3d-26-jun-202
 5
END:VEVENT
BEGIN:VTIMEZONE
TZID:America/Toronto
X-LIC-LOCATION:America/Toronto
BEGIN:DAYLIGHT
DTSTART;VALUE=DATE-TIME:20250309T030000
TZNAME:EDT
TZOFFSETFROM:-0500
TZOFFSETTO:-0400
END:DAYLIGHT
END:VTIMEZONE
END:VCALENDAR
