BEGIN:VCALENDAR
VERSION:2.0
PRODID:-//Plone.org//NONSGML plone.app.event//EN
X-WR-TIMEZONE:America/Toronto
BEGIN:VEVENT
SUMMARY:Workshop on Spatial Audio for Music Performance and Production
DTSTART;TZID=America/Montreal;VALUE=DATE-TIME:20100218T090000
DTEND;TZID=America/Montreal;VALUE=DATE-TIME:20100218T150000
DTSTAMP;VALUE=DATE-TIME:20260422T045222Z
UID:b9666d3c090040b0ae239b015e68b484@project_zeoclients
CREATED;VALUE=DATE-TIME:20210321T215609Z
DESCRIPTION:This workshop is organized by CIRMMT Research Axis 4 (Multimod
 al Immersive Systems). It will take place on February 18\, 2010 at 9am. Th
 e workshop is open to all and registration is free. 
LAST-MODIFIED;VALUE=DATE-TIME:20210321T215609Z
LOCATION:MMR\, New Music Building\, McGill University (527 Sherbrooke St. 
 West) 
URL:https://www.cirmmt.org/en/events/workshops/research/spatial-audio-work
 shop/spatial-audio
END:VEVENT
BEGIN:VTIMEZONE
TZID:America/Montreal
X-LIC-LOCATION:America/Montreal
BEGIN:STANDARD
DTSTART;VALUE=DATE-TIME:20091101T010000
TZNAME:EST
TZOFFSETFROM:-0400
TZOFFSETTO:-0500
END:STANDARD
END:VTIMEZONE
END:VCALENDAR
