BEGIN:VCALENDAR
VERSION:2.0
PRODID:-//Plone.org//NONSGML plone.app.event//EN
X-WR-TIMEZONE:America/Toronto
BEGIN:VEVENT
SUMMARY:Workshop on Steven Kazuo Takasugi's 'Sideshow' with NO HAY BANDA
DTSTART;TZID=America/Montreal;VALUE=DATE-TIME:20190131T170000
DTEND;TZID=America/Montreal;VALUE=DATE-TIME:20190131T183000
DTSTAMP;VALUE=DATE-TIME:20260421T165030Z
UID:3b22a2d0964a4a12b18d29138eef5088@project_zeoclients
CREATED;VALUE=DATE-TIME:20210321T215611Z
DESCRIPTION:A workshop presented in collaboration with Research Axis 4 (Ex
 panded music practice) and No Hay Banda. Please note that this workshop is
  in connected to the Distinguished Lecture with Steven Takasugi on Februar
 y 21st.
LAST-MODIFIED;VALUE=DATE-TIME:20210321T215611Z
LOCATION:Clara Lichtenstein Hall\, Strathcona Music Building\, 555 Sherbro
 oke St. W.
URL:https://www.cirmmt.org/en/events/workshops/research/takasugi-nohayband
 a/slideshow
END:VEVENT
BEGIN:VTIMEZONE
TZID:America/Montreal
X-LIC-LOCATION:America/Montreal
BEGIN:STANDARD
DTSTART;VALUE=DATE-TIME:20181104T010000
TZNAME:EST
TZOFFSETFROM:-0400
TZOFFSETTO:-0500
END:STANDARD
END:VTIMEZONE
END:VCALENDAR
