BEGIN:VCALENDAR
VERSION:2.0
PRODID:-//Plone.org//NONSGML plone.app.event//EN
X-WR-TIMEZONE:America/Toronto
BEGIN:VEVENT
SUMMARY:Workshop on timbre and computer-aided composition with Joshua Fine
 berg
DTSTART;TZID=America/Montreal;VALUE=DATE-TIME:20150414T153000
DTEND;TZID=America/Montreal;VALUE=DATE-TIME:20150414T180000
DTSTAMP;VALUE=DATE-TIME:20260421T205036Z
UID:425a3a40dd1245b1bd6eced381da4168@project_zeoclients
CREATED;VALUE=DATE-TIME:20210321T215612Z
DESCRIPTION:This workshop is organized by Research Axis 4 (Expanded Musica
 l Practice) and will be held in A832\, on 8th floor of the New Music Build
 ing of McGill University. This event is also a McGill Doctoral Colloquium\
 , therefore it does not require registration and is open to all.
LAST-MODIFIED;VALUE=DATE-TIME:20210321T215612Z
LOCATION:A832\, New Music Building\, 527 Sherbrooke St. West.
URL:https://www.cirmmt.org/en/events/workshops/research/timbre_composition
 _fineberg
END:VEVENT
BEGIN:VTIMEZONE
TZID:America/Montreal
X-LIC-LOCATION:America/Montreal
BEGIN:DAYLIGHT
DTSTART;VALUE=DATE-TIME:20150308T030000
TZNAME:EDT
TZOFFSETFROM:-0500
TZOFFSETTO:-0400
END:DAYLIGHT
END:VTIMEZONE
END:VCALENDAR
