BEGIN:VCALENDAR
VERSION:2.0
PRODID:-//Plone.org//NONSGML plone.app.event//EN
X-WR-TIMEZONE:America/Toronto
BEGIN:VEVENT
SUMMARY:Unis-sons immersive listening workshop in the Multimedia Room (MMR
 )
DTSTART;TZID=America/Toronto;VALUE=DATE-TIME:20250609T140000
DTEND;TZID=America/Toronto;VALUE=DATE-TIME:20250609T170000
DTSTAMP;VALUE=DATE-TIME:20260421T113049Z
UID:d687936b66334ebcabc6e56d543fe311@project_zeoclients
CONTACT:Catherine.Guastavino [AT] mcgill [DOT] ca
CREATED;VALUE=DATE-TIME:20250528T141511Z
DESCRIPTION:This workshop is presented in collaboration with Research Axis
  3 (Cognition\, perception and movement)
LAST-MODIFIED;VALUE=DATE-TIME:20250603T143654Z
LOCATION:Multimedia Room (MMR) (-2 floor)\, Elizabeth Wirth Music Building
 \, 527 Sherbrooke O
URL:https://www.cirmmt.org/en/events/workshops/research/uni-sons-9-juin-20
 25
END:VEVENT
BEGIN:VTIMEZONE
TZID:America/Toronto
X-LIC-LOCATION:America/Toronto
BEGIN:DAYLIGHT
DTSTART;VALUE=DATE-TIME:20250309T030000
TZNAME:EDT
TZOFFSETFROM:-0500
TZOFFSETTO:-0400
END:DAYLIGHT
END:VTIMEZONE
END:VCALENDAR
