BEGIN:VCALENDAR
VERSION:2.0
PRODID:-//Plone.org//NONSGML plone.app.event//EN
X-WR-TIMEZONE:America/Toronto
BEGIN:VEVENT
SUMMARY:Workshop on DSP applications in recording studio: Instruments\, de
 vices and systems
DTSTART;TZID=America/Montreal;VALUE=DATE-TIME:20171110T084500
DTEND;TZID=America/Montreal;VALUE=DATE-TIME:20171110T150000
DTSTAMP;VALUE=DATE-TIME:20260421T180026Z
UID:d402abd7416c4316a52cb764e7e6a5af@project_zeoclients
CREATED;VALUE=DATE-TIME:20210321T215612Z
DESCRIPTION:A Research Axis 1 (Instruments\, devices and systems) workshop
 . This workshop is free and open to all. Registration is required.
LAST-MODIFIED;VALUE=DATE-TIME:20210321T215613Z
LOCATION:A832\, Elizabeth Wirth Music Building\, 527 Sherbrooke St. West
URL:https://www.cirmmt.org/en/events/workshops/research/workshop-dsp-appli
 cations/ra1-dsp
END:VEVENT
BEGIN:VTIMEZONE
TZID:America/Montreal
X-LIC-LOCATION:America/Montreal
BEGIN:STANDARD
DTSTART;VALUE=DATE-TIME:20171105T010000
TZNAME:EST
TZOFFSETFROM:-0400
TZOFFSETTO:-0500
END:STANDARD
END:VTIMEZONE
END:VCALENDAR
