BEGIN:VCALENDAR
VERSION:2.0
PRODID:-//Plone.org//NONSGML plone.app.event//EN
X-WR-TIMEZONE:America/Toronto
BEGIN:VEVENT
SUMMARY:POSTPONED: What does an electronic instrument do for you?
DTSTART;TZID=America/Montreal;VALUE=DATE-TIME:20170922T100000
DTEND;TZID=America/Montreal;VALUE=DATE-TIME:20170922T130000
DTSTAMP;VALUE=DATE-TIME:20260421T193303Z
UID:d479db1ac2d54011a1794d1240366e95@project_zeoclients
CREATED;VALUE=DATE-TIME:20210321T215613Z
DESCRIPTION:This workshop is organized by CIRMMT Research Axis 1 (Instrume
 nts\, devices and systems) and is free and open to all. 
LAST-MODIFIED;VALUE=DATE-TIME:20210321T215613Z
LOCATION:A832\, Elizabeth Wirth Music Building\, 527 Sherbrooke St. West
URL:https://www.cirmmt.org/en/events/workshops/research/workshop-electroni
 c-instrument/simssaworkshopxii
END:VEVENT
BEGIN:VTIMEZONE
TZID:America/Montreal
X-LIC-LOCATION:America/Montreal
BEGIN:DAYLIGHT
DTSTART;VALUE=DATE-TIME:20170312T030000
TZNAME:EDT
TZOFFSETFROM:-0500
TZOFFSETTO:-0400
END:DAYLIGHT
END:VTIMEZONE
END:VCALENDAR
