BEGIN:VCALENDAR
VERSION:2.0
PRODID:-//Plone.org//NONSGML plone.app.event//EN
X-WR-TIMEZONE:America/Toronto
BEGIN:VEVENT
SUMMARY:Workshop: Designing auditory experiences for an always-on Mixed Re
 ality system
DTSTART;TZID=America/Toronto;VALUE=DATE-TIME:20221003T120000
DTEND;TZID=America/Toronto;VALUE=DATE-TIME:20221003T153000
DTSTAMP;VALUE=DATE-TIME:20260423T070756Z
UID:0755a3c55825477abb783cd52f7660e5@project_zeoclients
CONTACT:info[AT]cirmmt.org
CREATED;VALUE=DATE-TIME:20220914T200325Z
DESCRIPTION:An event organized in collaboration with Research Axis 1 (Inst
 ruments\, devices\, and systems).
LAST-MODIFIED;VALUE=DATE-TIME:20220929T145914Z
LOCATION:A-832 (8th floor)\, 527 Rue Sherbrooke O.
URL:https://www.cirmmt.org/en/events/workshops/research/workshop-mixed-rea
 lity
END:VEVENT
BEGIN:VTIMEZONE
TZID:America/Toronto
X-LIC-LOCATION:America/Toronto
BEGIN:DAYLIGHT
DTSTART;VALUE=DATE-TIME:20220313T030000
TZNAME:EDT
TZOFFSETFROM:-0500
TZOFFSETTO:-0400
END:DAYLIGHT
END:VTIMEZONE
END:VCALENDAR
