BEGIN:VCALENDAR
VERSION:2.0
PRODID:-//Plone.org//NONSGML plone.app.event//EN
X-WR-TIMEZONE:America/Toronto
BEGIN:VEVENT
SUMMARY:Workshop on Contemporary Flute Techniques with Ine Vanoeveren
DTSTART;TZID=America/Montreal;VALUE=DATE-TIME:20170223T120000
DTEND;TZID=America/Montreal;VALUE=DATE-TIME:20170223T150000
DTSTAMP;VALUE=DATE-TIME:20260421T210133Z
UID:5d51e571ed8a42ea98d2492d7dc4aa56@project_zeoclients
CREATED;VALUE=DATE-TIME:20210321T215613Z
DESCRIPTION:CIRMMT RA-4/MASC Workshop on Contemporary Flute Techniques wit
 h Visiting Flutist Ine Vanoeveren.
LAST-MODIFIED;VALUE=DATE-TIME:20210321T215613Z
URL:https://www.cirmmt.org/en/events/workshops/research/workshop-on-contem
 porary-flute-techniques-with-ine-vanoeveren
END:VEVENT
BEGIN:VTIMEZONE
TZID:America/Montreal
X-LIC-LOCATION:America/Montreal
BEGIN:STANDARD
DTSTART;VALUE=DATE-TIME:20161106T010000
TZNAME:EST
TZOFFSETFROM:-0400
TZOFFSETTO:-0500
END:STANDARD
END:VTIMEZONE
END:VCALENDAR
