BEGIN:VCALENDAR
VERSION:2.0
PRODID:-//Plone.org//NONSGML plone.app.event//EN
X-WR-TIMEZONE:America/Toronto
BEGIN:VEVENT
SUMMARY:Workshop on electronic speckle pattern interferometry
DTSTART;TZID=America/Montreal;VALUE=DATE-TIME:20170618T133000
DTEND;TZID=America/Montreal;VALUE=DATE-TIME:20170618T163000
DTSTAMP;VALUE=DATE-TIME:20260421T180659Z
UID:454b677c01fc4624a704226f428eabdb@project_zeoclients
CREATED;VALUE=DATE-TIME:20210321T215614Z
DESCRIPTION:A RA1 workshop in conjunction with the International Symposium
  on Musical Acoustics (ISMA) at McGill University from June 18-22\, 2017.
LAST-MODIFIED;VALUE=DATE-TIME:20210321T215614Z
LOCATION:A832\, Elizabeth Wirth Music Building\, 527 Sherbrooke St. West
URL:https://www.cirmmt.org/en/events/workshops/research/workshop-on-electr
 onic-speckle-pattern-interferometry
END:VEVENT
BEGIN:VTIMEZONE
TZID:America/Montreal
X-LIC-LOCATION:America/Montreal
BEGIN:DAYLIGHT
DTSTART;VALUE=DATE-TIME:20170312T030000
TZNAME:EDT
TZOFFSETFROM:-0500
TZOFFSETTO:-0400
END:DAYLIGHT
END:VTIMEZONE
END:VCALENDAR
