BEGIN:VCALENDAR
VERSION:2.0
PRODID:-//Plone.org//NONSGML plone.app.event//EN
X-WR-TIMEZONE:America/Toronto
BEGIN:VEVENT
SUMMARY:Workshop on mixed acoustic/electronic music
DTSTART;TZID=America/Montreal;VALUE=DATE-TIME:20170402T100000
DTEND;TZID=America/Montreal;VALUE=DATE-TIME:20170402T170000
DTSTAMP;VALUE=DATE-TIME:20260421T182441Z
UID:5895d5a86fd04e5e9bfa3c4caebfab98@project_zeoclients
CREATED;VALUE=DATE-TIME:20210321T215614Z
DESCRIPTION:Colloquium on Mixed Acoustic/Electronic Music. Colloque sur la
  musique mixte. Coordinated by Robert Hasegawa. Presentations will be in E
 nglish and French as indicated by the lecture title. Free admission.
LAST-MODIFIED;VALUE=DATE-TIME:20210321T215614Z
LOCATION:A832\, Elizabeth Wirth Music Building\, 527 Sherbrooke St W
URL:https://www.cirmmt.org/en/events/workshops/research/workshop-on-mixed-
 acoustic-electronic-music
END:VEVENT
BEGIN:VTIMEZONE
TZID:America/Montreal
X-LIC-LOCATION:America/Montreal
BEGIN:DAYLIGHT
DTSTART;VALUE=DATE-TIME:20170312T030000
TZNAME:EDT
TZOFFSETFROM:-0500
TZOFFSETTO:-0400
END:DAYLIGHT
END:VTIMEZONE
END:VCALENDAR
