BEGIN:VCALENDAR
VERSION:2.0
PRODID:-//Plone.org//NONSGML plone.app.event//EN
X-WR-TIMEZONE:America/Toronto
BEGIN:VEVENT
SUMMARY:Workshop: Réunion biannuelle conjointe UdeM et UdeS (Necotis + La
 bo Molotchnikoff - Sc. Biologiques)
DTSTART;TZID=America/Montreal;VALUE=DATE-TIME:20140417T092500
DTEND;TZID=America/Montreal;VALUE=DATE-TIME:20140417T160000
DTSTAMP;VALUE=DATE-TIME:20260421T210138Z
UID:f132ec50ae61424eb294fc35ae79b762@project_zeoclients
CREATED;VALUE=DATE-TIME:20210321T215616Z
DESCRIPTION:This workshop is co-organized by the labs of Université de Mo
 ntréal\, Université de Sherbrooke\, and CIRMMT Research Axis 5 (Music pe
 rception and cognition). It will take place on Thursday\, April 17\, 2014\
 , at the Université de Montréal campus. This workshop is free and open t
 o all. Registration is required. Lunch will be provided.
LAST-MODIFIED;VALUE=DATE-TIME:20210321T215617Z
LOCATION:Salle D201 au Pavillon Marie-Victorin\, 90\, av. Vincent-d'Indy\,
  Montréal
URL:https://www.cirmmt.org/en/events/workshops/research/workshop-reunion-b
 iannuelle-conjointe-udem-et-udes-necotis-labo-molotchnikoff-sc.-biologique
 s
END:VEVENT
BEGIN:VTIMEZONE
TZID:America/Montreal
X-LIC-LOCATION:America/Montreal
BEGIN:DAYLIGHT
DTSTART;VALUE=DATE-TIME:20140309T030000
TZNAME:EDT
TZOFFSETFROM:-0500
TZOFFSETTO:-0400
END:DAYLIGHT
END:VTIMEZONE
END:VCALENDAR
