BEGIN:VCALENDAR
VERSION:2.0
PRODID:-//Plone.org//NONSGML plone.app.event//EN
X-WR-TIMEZONE:America/Toronto
BEGIN:VEVENT
SUMMARY:Generative music workshop
DTSTART;TZID=America/Montreal;VALUE=DATE-TIME:20171213T130000
DTEND;TZID=America/Montreal;VALUE=DATE-TIME:20171213T143000
DTSTAMP;VALUE=DATE-TIME:20260421T180105Z
UID:a9ca36a2047e4d68bff3ca295238f8cf@project_zeoclients
CREATED;VALUE=DATE-TIME:20210321T215617Z
DESCRIPTION:A Research Axis 4 (Expanded musical practice) workshop. This w
 orkshop is free and open to all.
LAST-MODIFIED;VALUE=DATE-TIME:20210321T215617Z
LOCATION:A832\, Elizabeth Wirth Music Building\, 527 Sherbrooke St W
URL:https://www.cirmmt.org/en/events/workshops/research/workshop-seaman/ra
 4-seaman
END:VEVENT
BEGIN:VTIMEZONE
TZID:America/Montreal
X-LIC-LOCATION:America/Montreal
BEGIN:STANDARD
DTSTART;VALUE=DATE-TIME:20171105T010000
TZNAME:EST
TZOFFSETFROM:-0400
TZOFFSETTO:-0500
END:STANDARD
END:VTIMEZONE
END:VCALENDAR
