BEGIN:VCALENDAR
VERSION:2.0
PRODID:-//Plone.org//NONSGML plone.app.event//EN
X-WR-TIMEZONE:America/Toronto
BEGIN:VEVENT
SUMMARY:World Voice Day Voice Workshop: Caring for Your Voice / En voix ve
 rs la santé
DTSTART;TZID=America/Montreal;VALUE=DATE-TIME:20170328T170000
DTEND;TZID=America/Montreal;VALUE=DATE-TIME:20170328T180000
DTSTAMP;VALUE=DATE-TIME:20260421T193136Z
UID:8a6ee61c95f8434d877aef34c4142115@project_zeoclients
CREATED;VALUE=DATE-TIME:20210321T215620Z
DESCRIPTION:A part of World Voice Day 2017. Registration Required. To acce
 ss this floor\, please enter the library located on the 3rd floor and take
  the elevator down the hall to your left.
LAST-MODIFIED;VALUE=DATE-TIME:20210321T215620Z
LOCATION:A412\, Elizabeth Wirth Music Building\, 527 Sherbrooke St W
URL:https://www.cirmmt.org/en/events/workshops/research/world-voice-day/Ev
 ent
END:VEVENT
BEGIN:VTIMEZONE
TZID:America/Montreal
X-LIC-LOCATION:America/Montreal
BEGIN:DAYLIGHT
DTSTART;VALUE=DATE-TIME:20170312T030000
TZNAME:EDT
TZOFFSETFROM:-0500
TZOFFSETTO:-0400
END:DAYLIGHT
END:VTIMEZONE
END:VCALENDAR
