BEGIN:VCALENDAR
VERSION:2.0
PRODID:-//Plone.org//NONSGML plone.app.event//EN
X-WR-TIMEZONE:America/Toronto
BEGIN:VEVENT
SUMMARY:CV & Cover Letter Workshop
DTSTART;TZID=America/Toronto;VALUE=DATE-TIME:20220926T130000
DTEND;TZID=America/Toronto;VALUE=DATE-TIME:20220926T150000
DTSTAMP;VALUE=DATE-TIME:20260423T071041Z
UID:9da8a54d661e43a8ab585eafc9b59aee@project_zeoclients
CONTACT:actor-project.music[AT]mcgill.ca
CREATED;VALUE=DATE-TIME:20220914T180124Z
DESCRIPTION:Hosted by the ACTOR Training and Mentoring Committee\, this on
 line workshop is open to all ACTOR and CIRMMT members.
LAST-MODIFIED;VALUE=DATE-TIME:20220921T142801Z
LOCATION:Online (Zoom link below)
URL:https://www.cirmmt.org/en/events/workshops/training/actor-cv-workshop
END:VEVENT
BEGIN:VTIMEZONE
TZID:America/Toronto
X-LIC-LOCATION:America/Toronto
BEGIN:DAYLIGHT
DTSTART;VALUE=DATE-TIME:20220313T030000
TZNAME:EDT
TZOFFSETFROM:-0500
TZOFFSETTO:-0400
END:DAYLIGHT
END:VTIMEZONE
END:VCALENDAR
