BEGIN:VCALENDAR
VERSION:2.0
PRODID:-//Plone.org//NONSGML plone.app.event//EN
X-WR-TIMEZONE:America/Toronto
BEGIN:VEVENT
SUMMARY:Introductory Audiosculpt Workshop
DTSTART;TZID=America/Montreal;VALUE=DATE-TIME:20090112T133000
DTEND;TZID=America/Montreal;VALUE=DATE-TIME:20090112T163000
DTSTAMP;VALUE=DATE-TIME:20260422T030531Z
UID:d0962e5c467424be6ff234116c238359@project_zeoclients
CREATED;VALUE=DATE-TIME:20210321T215621Z
DESCRIPTION:This workshop is organized by RA1 and RA6.  Registration is fr
 ee.
LAST-MODIFIED;VALUE=DATE-TIME:20210321T215622Z
LOCATION:A832\, New Music Building\, 527 Sherbrooke St. West
URL:https://www.cirmmt.org/en/events/workshops/training/audiosculpt/event
END:VEVENT
BEGIN:VTIMEZONE
TZID:America/Montreal
X-LIC-LOCATION:America/Montreal
BEGIN:STANDARD
DTSTART;VALUE=DATE-TIME:20081102T010000
TZNAME:EST
TZOFFSETFROM:-0400
TZOFFSETTO:-0500
END:STANDARD
END:VTIMEZONE
END:VCALENDAR
