BEGIN:VCALENDAR
VERSION:2.0
PRODID:-//Plone.org//NONSGML plone.app.event//EN
X-WR-TIMEZONE:America/Toronto
BEGIN:VEVENT
SUMMARY:CLUMEQ: High performance computing centre
DTSTART;TZID=America/Montreal;VALUE=DATE-TIME:20120305T130000
DTEND;TZID=America/Montreal;VALUE=DATE-TIME:20120305T143000
DTSTAMP;VALUE=DATE-TIME:20260421T232137Z
UID:3ffa152a31a640268efd34c7237ed625@project_zeoclients
CREATED;VALUE=DATE-TIME:20210321T215622Z
LAST-MODIFIED;VALUE=DATE-TIME:20210321T215622Z
LOCATION:A-832\, New Music Building\, 527 Sherbrooke St. West
URL:https://www.cirmmt.org/en/events/workshops/training/clumeq/event
END:VEVENT
BEGIN:VTIMEZONE
TZID:America/Montreal
X-LIC-LOCATION:America/Montreal
BEGIN:STANDARD
DTSTART;VALUE=DATE-TIME:20111106T010000
TZNAME:EST
TZOFFSETFROM:-0400
TZOFFSETTO:-0500
END:STANDARD
END:VTIMEZONE
END:VCALENDAR
