BEGIN:VCALENDAR
VERSION:2.0
PRODID:-//Plone.org//NONSGML plone.app.event//EN
X-WR-TIMEZONE:America/Toronto
BEGIN:VEVENT
SUMMARY:Workshop on EDI (Equity\, Diversity and Inclusion) for CIRMMT
DTSTART;TZID=America/Toronto;VALUE=DATE-TIME:20230605T130000
DTEND;TZID=America/Toronto;VALUE=DATE-TIME:20230605T160000
DTSTAMP;VALUE=DATE-TIME:20260421T121435Z
UID:ce3ab0487195432b884db17804a1a031@project_zeoclients
CONTACT:info [AT] cirmmt [DOT] org
CREATED;VALUE=DATE-TIME:20230511T152727Z
DESCRIPTION:A workshop on EDI (Equity\, Diversity and Inclusion) aimed spe
 cifically at CIRMMT members and students.
LAST-MODIFIED;VALUE=DATE-TIME:20230529T182816Z
LOCATION:A-832\, 8th floor\, 527 Sherbrooke St W\, Montreal\, Quebec H3A 1
 E3
URL:https://www.cirmmt.org/en/events/workshops/training/ediworkshop
END:VEVENT
BEGIN:VTIMEZONE
TZID:America/Toronto
X-LIC-LOCATION:America/Toronto
BEGIN:DAYLIGHT
DTSTART;VALUE=DATE-TIME:20230312T030000
TZNAME:EDT
TZOFFSETFROM:-0500
TZOFFSETTO:-0400
END:DAYLIGHT
END:VTIMEZONE
END:VCALENDAR
