BEGIN:VCALENDAR
VERSION:2.0
PRODID:-//Plone.org//NONSGML plone.app.event//EN
X-WR-TIMEZONE:America/Toronto
BEGIN:VEVENT
SUMMARY:Final Cut Advanced Workshop
DTSTART;TZID=America/Montreal;VALUE=DATE-TIME:20101216T100000
DTEND;TZID=America/Montreal;VALUE=DATE-TIME:20101216T170000
DTSTAMP;VALUE=DATE-TIME:20260422T014143Z
UID:f6e275e53a42e9395937d242011ec2a1@project_zeoclients
CREATED;VALUE=DATE-TIME:20210321T215624Z
DESCRIPTION:CIRMMT has Final Cut Pro video editing software available for 
 use by its members. This workshop will introduce users to advanced FCP ele
 ments such as color correction\, effects\, titling\, codecs and exporting.
LAST-MODIFIED;VALUE=DATE-TIME:20210321T215624Z
LOCATION:A807\, New Music Building\, 527 Sherbrooke St. West.
URL:https://www.cirmmt.org/en/events/workshops/training/finalcut-advanced/
 event_20101216
END:VEVENT
BEGIN:VTIMEZONE
TZID:America/Montreal
X-LIC-LOCATION:America/Montreal
BEGIN:STANDARD
DTSTART;VALUE=DATE-TIME:20101107T010000
TZNAME:EST
TZOFFSETFROM:-0400
TZOFFSETTO:-0500
END:STANDARD
END:VTIMEZONE
END:VCALENDAR
