BEGIN:VCALENDAR
VERSION:2.0
PRODID:-//Plone.org//NONSGML plone.app.event//EN
X-WR-TIMEZONE:America/Toronto
BEGIN:VEVENT
SUMMARY:Final Cut Pro X Introductory Workshop
DTSTART;TZID=America/Montreal;VALUE=DATE-TIME:20130925T093000
DTEND;TZID=America/Montreal;VALUE=DATE-TIME:20130925T113000
DTSTAMP;VALUE=DATE-TIME:20260421T204924Z
UID:15f859835fbabb109c38e9f9c122eacc@project_zeoclients
CREATED;VALUE=DATE-TIME:20210321T215627Z
DESCRIPTION:An introduction to FCPX elements such as setting up a project\
 , the FCP toolset and basics of editing. 
LAST-MODIFIED;VALUE=DATE-TIME:20210321T215627Z
LOCATION:A807\, New Music Building\, 527 Sherbrooke St. West.
URL:https://www.cirmmt.org/en/events/workshops/training/finalcut/event_201
 30925
END:VEVENT
BEGIN:VTIMEZONE
TZID:America/Montreal
X-LIC-LOCATION:America/Montreal
BEGIN:DAYLIGHT
DTSTART;VALUE=DATE-TIME:20130310T030000
TZNAME:EDT
TZOFFSETFROM:-0500
TZOFFSETTO:-0400
END:DAYLIGHT
END:VTIMEZONE
END:VCALENDAR
