BEGIN:VCALENDAR
VERSION:2.0
PRODID:-//Plone.org//NONSGML plone.app.event//EN
X-WR-TIMEZONE:America/Toronto
BEGIN:VEVENT
SUMMARY:Workshop - Fluid Corpus Manipulation (FluCoMa): Creative and progr
 ammatic approaches to sound banks
DTSTART;TZID=America/Toronto;VALUE=DATE-TIME:20211124T100000
DTEND;TZID=America/Toronto;VALUE=DATE-TIME:20211124T170000
DTSTAMP;VALUE=DATE-TIME:20260421T150636Z
UID:d52f6709ea1e4621a140f0cd105b1d7f@project_zeoclients
CONTACT:cirmmt.info[AT]mcgill.ca\, cirmmt.info@mcgill.ca
CREATED;VALUE=DATE-TIME:20211110T190627Z
DESCRIPTION:A one-day workshop on music making with collections of sounds 
 using machine listening and machine learning\, with Pierre Alexandre Tremb
 lay (University of Huddersfield\, UK).
LAST-MODIFIED;VALUE=DATE-TIME:20211125T205342Z
LOCATION:A-832\, Elizabeth Wirth Music Building\, 527 Rue Sherbrooke Ouest
URL:https://www.cirmmt.org/en/events/workshops/training/flucoma
END:VEVENT
BEGIN:VTIMEZONE
TZID:America/Toronto
X-LIC-LOCATION:America/Toronto
BEGIN:STANDARD
DTSTART;VALUE=DATE-TIME:20211107T010000
TZNAME:EST
TZOFFSETFROM:-0400
TZOFFSETTO:-0500
END:STANDARD
END:VTIMEZONE
END:VCALENDAR
