BEGIN:VCALENDAR
VERSION:2.0
PRODID:-//Plone.org//NONSGML plone.app.event//EN
X-WR-TIMEZONE:America/Toronto
BEGIN:VEVENT
SUMMARY:Introduction to the IMP-NESTAR project
DTSTART;TZID=America/Montreal;VALUE=DATE-TIME:20131127T150000
DTEND;TZID=America/Montreal;VALUE=DATE-TIME:20131127T160000
DTSTAMP;VALUE=DATE-TIME:20260421T204153Z
UID:d35dbb068e3990ce87dcfe35bcc0e707@project_zeoclients
CREATED;VALUE=DATE-TIME:20210321T215627Z
DESCRIPTION:An introduction to the Interactive Multimedia Playroom. This w
 orkshop is open to all with registration.
LAST-MODIFIED;VALUE=DATE-TIME:20210321T215627Z
LOCATION:A807 (CIRMMT Conference Room)\, New Music Building\, 527 Sherbroo
 ke St. West.
URL:https://www.cirmmt.org/en/events/workshops/training/imp-nestar-project
 /event
END:VEVENT
BEGIN:VTIMEZONE
TZID:America/Montreal
X-LIC-LOCATION:America/Montreal
BEGIN:STANDARD
DTSTART;VALUE=DATE-TIME:20131103T010000
TZNAME:EST
TZOFFSETFROM:-0400
TZOFFSETTO:-0500
END:STANDARD
END:VTIMEZONE
END:VCALENDAR
