BEGIN:VCALENDAR
VERSION:2.0
PRODID:-//Plone.org//NONSGML plone.app.event//EN
X-WR-TIMEZONE:America/Toronto
BEGIN:VEVENT
SUMMARY:Training workshop: Establishing relationships with industry
DTSTART;TZID=America/Montreal;VALUE=DATE-TIME:20120423T130000
DTEND;TZID=America/Montreal;VALUE=DATE-TIME:20120423T160000
DTSTAMP;VALUE=DATE-TIME:20260421T232026Z
UID:d8516b5b72f17b785f493232965979b9@project_zeoclients
CREATED;VALUE=DATE-TIME:20210321T215628Z
LAST-MODIFIED;VALUE=DATE-TIME:20210321T215628Z
LOCATION:A-832\, New Music Building\, 527 Sherbrooke St. West
URL:https://www.cirmmt.org/en/events/workshops/training/industry/event
END:VEVENT
BEGIN:VTIMEZONE
TZID:America/Montreal
X-LIC-LOCATION:America/Montreal
BEGIN:DAYLIGHT
DTSTART;VALUE=DATE-TIME:20120311T030000
TZNAME:EDT
TZOFFSETFROM:-0500
TZOFFSETTO:-0400
END:DAYLIGHT
END:VTIMEZONE
END:VCALENDAR
