BEGIN:VCALENDAR
VERSION:2.0
PRODID:-//Plone.org//NONSGML plone.app.event//EN
X-WR-TIMEZONE:America/Toronto
BEGIN:VEVENT
SUMMARY:Establishing relationships with industry
DTSTART;TZID=America/Montreal;VALUE=DATE-TIME:20140131T140000
DTEND;TZID=America/Montreal;VALUE=DATE-TIME:20140131T160000
DTSTAMP;VALUE=DATE-TIME:20260421T204019Z
UID:364ecacbcbfc8018be603972716ed98e@project_zeoclients
CREATED;VALUE=DATE-TIME:20210321T215628Z
DESCRIPTION:This workshop is organized by CIRMMT. This workshop is open to
  all with registration.
LAST-MODIFIED;VALUE=DATE-TIME:20210321T215628Z
LOCATION:A832\, New Music Building\, 527 Sherbrooke St. West.
URL:https://www.cirmmt.org/en/events/workshops/training/industry_workshop/
 event
END:VEVENT
BEGIN:VTIMEZONE
TZID:America/Montreal
X-LIC-LOCATION:America/Montreal
BEGIN:STANDARD
DTSTART;VALUE=DATE-TIME:20131103T010000
TZNAME:EST
TZOFFSETFROM:-0400
TZOFFSETTO:-0500
END:STANDARD
END:VTIMEZONE
END:VCALENDAR
