BEGIN:VCALENDAR
VERSION:2.0
PRODID:-//Plone.org//NONSGML plone.app.event//EN
X-WR-TIMEZONE:America/Toronto
BEGIN:VEVENT
SUMMARY:Advanced LaTeX training workshop
DTSTART;TZID=America/Montreal;VALUE=DATE-TIME:20080129T160000
DTEND;TZID=America/Montreal;VALUE=DATE-TIME:20080129T173000
DTSTAMP;VALUE=DATE-TIME:20260422T042550Z
UID:7c302e2668309bffd3d866119cd8d638@project_zeoclients
CREATED;VALUE=DATE-TIME:20210321T215630Z
DESCRIPTION:A training workshop on LaTeX for non-beginners (or advanced La
 TeX users) designed to provide detailed information and relevant pointers.
LAST-MODIFIED;VALUE=DATE-TIME:20210321T215630Z
LOCATION:A833\, New Music Building\, McGill University (enter via 555 Sher
 brooke St. West)
URL:https://www.cirmmt.org/en/events/workshops/training/latex/event
END:VEVENT
BEGIN:VTIMEZONE
TZID:America/Montreal
X-LIC-LOCATION:America/Montreal
BEGIN:STANDARD
DTSTART;VALUE=DATE-TIME:20071104T010000
TZNAME:EST
TZOFFSETFROM:-0400
TZOFFSETTO:-0500
END:STANDARD
END:VTIMEZONE
END:VCALENDAR
