BEGIN:VCALENDAR
VERSION:2.0
PRODID:-//Plone.org//NONSGML plone.app.event//EN
X-WR-TIMEZONE:America/Toronto
BEGIN:VEVENT
SUMMARY:GUI building with MATLAB
DTSTART;TZID=America/Montreal;VALUE=DATE-TIME:20101116T093000
DTEND;TZID=America/Montreal;VALUE=DATE-TIME:20101116T120000
DTSTAMP;VALUE=DATE-TIME:20260422T013914Z
UID:de17a014cb0c9f46c19ba004cee26da3@project_zeoclients
CREATED;VALUE=DATE-TIME:20210321T215631Z
DESCRIPTION:This is a WebEx presentation.  The presenter\, Jiro Doke\, wil
 l be off-site but there will be a shared desktop for the graphics and a tw
 o-way audio feed.  Please bring your laptop with you (with Matlab installe
 d) if you want to follow along with the presenter as he builds his example
 s.  It will take place on Tuesday\, November 16\, in A-412 (New Music Buil
 ding).  This workshop is free and open to all but registration is required
 .
LAST-MODIFIED;VALUE=DATE-TIME:20210321T215632Z
LOCATION:A-412 (library seminar room)\, New Music Building\, 527 Sherbrook
 e St. West (once in the New Music Building\, take the elevator to the 3rd 
 floor.  Enter the library and take internal stairs or elevator to 4th floo
 r)
URL:https://www.cirmmt.org/en/events/workshops/training/matlab/event
END:VEVENT
BEGIN:VTIMEZONE
TZID:America/Montreal
X-LIC-LOCATION:America/Montreal
BEGIN:STANDARD
DTSTART;VALUE=DATE-TIME:20101107T010000
TZNAME:EST
TZOFFSETFROM:-0400
TZOFFSETTO:-0500
END:STANDARD
END:VTIMEZONE
END:VCALENDAR
