BEGIN:VCALENDAR
VERSION:2.0
PRODID:-//Plone.org//NONSGML plone.app.event//EN
X-WR-TIMEZONE:America/Toronto
BEGIN:VEVENT
SUMMARY:Advanced Microphones Workshop
DTSTART;TZID=America/Montreal;VALUE=DATE-TIME:20121206T140000
DTEND;TZID=America/Montreal;VALUE=DATE-TIME:20121206T150000
DTSTAMP;VALUE=DATE-TIME:20260421T220958Z
UID:23963481801ed6ed320d18ca3c95d08a@project_zeoclients
CREATED;VALUE=DATE-TIME:20210321T215633Z
DESCRIPTION:An introduction to the advanced microphones available in the C
 IRMMT loan pool
LAST-MODIFIED;VALUE=DATE-TIME:20210321T215633Z
LOCATION:A807\, New Music Building\, 527 Sherbrooke St. West.
URL:https://www.cirmmt.org/en/events/workshops/training/microphones-advanc
 ed/event_20121129
END:VEVENT
BEGIN:VTIMEZONE
TZID:America/Montreal
X-LIC-LOCATION:America/Montreal
BEGIN:STANDARD
DTSTART;VALUE=DATE-TIME:20121104T010000
TZNAME:EST
TZOFFSETFROM:-0400
TZOFFSETTO:-0500
END:STANDARD
END:VTIMEZONE
END:VCALENDAR
