BEGIN:VCALENDAR
VERSION:2.0
PRODID:-//Plone.org//NONSGML plone.app.event//EN
X-WR-TIMEZONE:America/Toronto
BEGIN:VEVENT
SUMMARY:Introduction to CIRMMT basic microphones
DTSTART;TZID=America/Montreal;VALUE=DATE-TIME:20131105T140000
DTEND;TZID=America/Montreal;VALUE=DATE-TIME:20131105T150000
DTSTAMP;VALUE=DATE-TIME:20260421T204031Z
UID:389cacfc5e88afe207c45ca89a404f50@project_zeoclients
CREATED;VALUE=DATE-TIME:20210321T215636Z
DESCRIPTION:Use and care of basic microphones in the CIRMMT equipment loan
  pool.
LAST-MODIFIED;VALUE=DATE-TIME:20210321T215636Z
LOCATION:A807\, New Music Building\, 527 Sherbrooke St. West
URL:https://www.cirmmt.org/en/events/workshops/training/microphones-basic/
 event_20131105
END:VEVENT
BEGIN:VTIMEZONE
TZID:America/Montreal
X-LIC-LOCATION:America/Montreal
BEGIN:STANDARD
DTSTART;VALUE=DATE-TIME:20131103T010000
TZNAME:EST
TZOFFSETFROM:-0400
TZOFFSETTO:-0500
END:STANDARD
END:VTIMEZONE
END:VCALENDAR
