BEGIN:VCALENDAR
VERSION:2.0
PRODID:-//Plone.org//NONSGML plone.app.event//EN
X-WR-TIMEZONE:America/Toronto
BEGIN:VEVENT
SUMMARY:Motion capture 3-day training workshop: Different toolboxes and ap
 proaches across labs and fields
DTSTART;TZID=America/Montreal;VALUE=DATE-TIME:20190415T093000
DTEND;TZID=America/Montreal;VALUE=DATE-TIME:20190417T163000
DTSTAMP;VALUE=DATE-TIME:20260421T162754Z
UID:850c8f3bf68931b1d1a0d2be2b31b05f@project_zeoclients
CREATED;VALUE=DATE-TIME:20210321T215638Z
DESCRIPTION:Introduction and application of Toolboxes\, demonstrations and
  a discussion on synchronization of data.
LAST-MODIFIED;VALUE=DATE-TIME:20210321T215638Z
LOCATION:A832\, Elizabeth Wirth Music Building\, 527 Sherbrooke St. West.
URL:https://www.cirmmt.org/en/events/workshops/training/mocap/event
END:VEVENT
BEGIN:VTIMEZONE
TZID:America/Montreal
X-LIC-LOCATION:America/Montreal
BEGIN:DAYLIGHT
DTSTART;VALUE=DATE-TIME:20190310T030000
TZNAME:EDT
TZOFFSETFROM:-0500
TZOFFSETTO:-0400
END:DAYLIGHT
END:VTIMEZONE
END:VCALENDAR
