BEGIN:VCALENDAR
VERSION:2.0
PRODID:-//Plone.org//NONSGML plone.app.event//EN
X-WR-TIMEZONE:America/Toronto
BEGIN:VEVENT
SUMMARY:Introduction and Orientation Workshop
DTSTART;TZID=America/Montreal;VALUE=DATE-TIME:20101005T130000
DTEND;TZID=America/Montreal;VALUE=DATE-TIME:20101005T140000
DTSTAMP;VALUE=DATE-TIME:20260422T014148Z
UID:398fc69f8ec0e03ea4b333950320a6d6@project_zeoclients
CREATED;VALUE=DATE-TIME:20210321T215641Z
DESCRIPTION:An introduction to CIRMMT resources and the on-line booking sy
 stem.
LAST-MODIFIED;VALUE=DATE-TIME:20210321T215641Z
LOCATION:A807\, New Music Building\, 527 Sherbrooke St. West. Enter via 55
 5 Sherbrooke St. West.
URL:https://www.cirmmt.org/en/events/workshops/training/orientation/event_
 20101005
END:VEVENT
BEGIN:VTIMEZONE
TZID:America/Montreal
X-LIC-LOCATION:America/Montreal
BEGIN:DAYLIGHT
DTSTART;VALUE=DATE-TIME:20100314T030000
TZNAME:EDT
TZOFFSETFROM:-0500
TZOFFSETTO:-0400
END:DAYLIGHT
END:VTIMEZONE
END:VCALENDAR
