BEGIN:VCALENDAR
VERSION:2.0
PRODID:-//Plone.org//NONSGML plone.app.event//EN
X-WR-TIMEZONE:America/Toronto
BEGIN:VEVENT
SUMMARY:Introduction and Orientation Workshop
DTSTART;TZID=America/Montreal;VALUE=DATE-TIME:20101111T130000
DTEND;TZID=America/Montreal;VALUE=DATE-TIME:20101111T140000
DTSTAMP;VALUE=DATE-TIME:20260422T014147Z
UID:90e73d62663aa8874d6a80b97b5a185d@project_zeoclients
CREATED;VALUE=DATE-TIME:20210321T215643Z
DESCRIPTION:An introduction to CIRMMT resources and the on-line booking sy
 stem.
LAST-MODIFIED;VALUE=DATE-TIME:20210321T215644Z
LOCATION:A807\, New Music Building\, 527 Sherbrooke St. West. Enter via 55
 5 Sherbrooke St. West.
URL:https://www.cirmmt.org/en/events/workshops/training/orientation/event_
 20101111
END:VEVENT
BEGIN:VTIMEZONE
TZID:America/Montreal
X-LIC-LOCATION:America/Montreal
BEGIN:STANDARD
DTSTART;VALUE=DATE-TIME:20101107T010000
TZNAME:EST
TZOFFSETFROM:-0400
TZOFFSETTO:-0500
END:STANDARD
END:VTIMEZONE
END:VCALENDAR
