BEGIN:VCALENDAR
VERSION:2.0
PRODID:-//Plone.org//NONSGML plone.app.event//EN
X-WR-TIMEZONE:America/Toronto
BEGIN:VEVENT
SUMMARY:Introduction and Orientation Workshop
DTSTART;TZID=America/Montreal;VALUE=DATE-TIME:20121101T130000
DTEND;TZID=America/Montreal;VALUE=DATE-TIME:20121101T140000
DTSTAMP;VALUE=DATE-TIME:20260421T220744Z
UID:ec65cada50624aa46b0a41f7cbb2a848@project_zeoclients
CREATED;VALUE=DATE-TIME:20210321T215648Z
DESCRIPTION:An introduction to CIRMMT resources and the on-line booking sy
 stem.
LAST-MODIFIED;VALUE=DATE-TIME:20210321T215648Z
LOCATION:A812\, New Music Building\, 527 Sherbrooke St. West.
URL:https://www.cirmmt.org/en/events/workshops/training/orientation/event_
 20121101
END:VEVENT
BEGIN:VTIMEZONE
TZID:America/Montreal
X-LIC-LOCATION:America/Montreal
BEGIN:DAYLIGHT
DTSTART;VALUE=DATE-TIME:20120311T030000
TZNAME:EDT
TZOFFSETFROM:-0500
TZOFFSETTO:-0400
END:DAYLIGHT
END:VTIMEZONE
END:VCALENDAR
