BEGIN:VCALENDAR
VERSION:2.0
PRODID:-//Plone.org//NONSGML plone.app.event//EN
X-WR-TIMEZONE:America/Toronto
BEGIN:VEVENT
SUMMARY:Introduction and Orientation Workshop
DTSTART;TZID=America/Montreal;VALUE=DATE-TIME:20140918T103000
DTEND;TZID=America/Montreal;VALUE=DATE-TIME:20140918T120000
DTSTAMP;VALUE=DATE-TIME:20260421T205852Z
UID:55d7f0fc0addb299df069d5a48e005b3@project_zeoclients
CREATED;VALUE=DATE-TIME:20210321T215652Z
DESCRIPTION:An introduction to CIRMMT resources and the on-line booking sy
 stem.
LAST-MODIFIED;VALUE=DATE-TIME:20210321T215653Z
LOCATION:A812\, New Music Building\, 527 Sherbrooke St. West.
URL:https://www.cirmmt.org/en/events/workshops/training/orientation/event_
 20130925
END:VEVENT
BEGIN:VTIMEZONE
TZID:America/Montreal
X-LIC-LOCATION:America/Montreal
BEGIN:DAYLIGHT
DTSTART;VALUE=DATE-TIME:20140309T030000
TZNAME:EDT
TZOFFSETFROM:-0500
TZOFFSETTO:-0400
END:DAYLIGHT
END:VTIMEZONE
END:VCALENDAR
