BEGIN:VCALENDAR
VERSION:2.0
PRODID:-//Plone.org//NONSGML plone.app.event//EN
X-WR-TIMEZONE:America/Toronto
BEGIN:VEVENT
SUMMARY:Real-time sound synthesis and algorithmic composition using SuperC
 ollider
DTSTART;TZID=America/Montreal;VALUE=DATE-TIME:20131121T160000
DTEND;TZID=America/Montreal;VALUE=DATE-TIME:20131121T173000
DTSTAMP;VALUE=DATE-TIME:20260421T204019Z
UID:af17558c8d24c9de0e5e6e13310a7466@project_zeoclients
CREATED;VALUE=DATE-TIME:20210321T215702Z
DESCRIPTION:This workshop includes a demonstration of live coding exercise
 s by Ivan Paz. This workshop is open to all with registration.
LAST-MODIFIED;VALUE=DATE-TIME:20210321T215702Z
LOCATION:A817\, New Music Building\, 527 Sherbrooke St. West.
URL:https://www.cirmmt.org/en/events/workshops/training/supercollider/even
 t
END:VEVENT
BEGIN:VTIMEZONE
TZID:America/Montreal
X-LIC-LOCATION:America/Montreal
BEGIN:STANDARD
DTSTART;VALUE=DATE-TIME:20131103T010000
TZNAME:EST
TZOFFSETFROM:-0400
TZOFFSETTO:-0500
END:STANDARD
END:VTIMEZONE
END:VCALENDAR
