BEGIN:VCALENDAR
VERSION:2.0
PRODID:-//Plone.org//NONSGML plone.app.event//EN
X-WR-TIMEZONE:America/Toronto
BEGIN:VEVENT
SUMMARY:Jeff Snyder : Conception et composition pour des instruments élec
 troniques inhabituels
DTSTART;TZID=America/Toronto;VALUE=DATE-TIME:20250203T180000
DTEND;TZID=America/Toronto;VALUE=DATE-TIME:20250203T190000
DTSTAMP;VALUE=DATE-TIME:20260421T121659Z
UID:81335036b8644510b66515e51d6b1779@project_zeoclients
CONTACT:info[AT]cirmmt[DOT]org\, info[AT]cirmmt[DOT]org
CREATED;VALUE=DATE-TIME:20240722T180705Z
LAST-MODIFIED;VALUE=DATE-TIME:20250127T164149Z
LOCATION:Salle Tanna Schulich\, Pavillon de musique Elizabeth Wirth\, 527 
 Sherbrooke O.
URL:https://www.cirmmt.org/fr/events/distinguished-lectures/03-feb-2025
END:VEVENT
BEGIN:VTIMEZONE
TZID:America/Toronto
X-LIC-LOCATION:America/Toronto
BEGIN:STANDARD
DTSTART;VALUE=DATE-TIME:20241103T010000
TZNAME:EST
TZOFFSETFROM:-0400
TZOFFSETTO:-0500
END:STANDARD
END:VTIMEZONE
END:VCALENDAR
