BEGIN:VCALENDAR
VERSION:2.0
PRODID:-//Plone.org//NONSGML plone.app.event//EN
X-WR-TIMEZONE:America/Toronto
BEGIN:VEVENT
SUMMARY:Marco Stroppa\, Musikhochschule\, Stuttgart\, Germany: "The compos
 itional control of sound synthesis: From Traiettoria to OMChroma"
DTSTART;TZID=America/Montreal;VALUE=DATE-TIME:20110415T163000
DTEND;TZID=America/Montreal;VALUE=DATE-TIME:20110415T180000
DTSTAMP;VALUE=DATE-TIME:20260423T132329Z
UID:6427d647589342c08c9c2eab0f2f29af@project_zeoclients
CREATED;VALUE=DATE-TIME:20210321T215709Z
LAST-MODIFIED;VALUE=DATE-TIME:20210420T150928Z
LOCATION:C-201\, Schulich School of Music\, McGill University\, 555 Sherbr
 ooke St. West\, Montreal QC 
URL:https://www.cirmmt.org/fr/events/distinguished-lectures/Stroppa
END:VEVENT
BEGIN:VTIMEZONE
TZID:America/Montreal
X-LIC-LOCATION:America/Montreal
BEGIN:DAYLIGHT
DTSTART;VALUE=DATE-TIME:20110313T030000
TZNAME:EDT
TZOFFSETFROM:-0500
TZOFFSETTO:-0400
END:DAYLIGHT
END:VTIMEZONE
END:VCALENDAR
