BEGIN:VCALENDAR
VERSION:2.0
PRODID:-//Plone.org//NONSGML plone.app.event//EN
X-WR-TIMEZONE:America/Toronto
BEGIN:VEVENT
SUMMARY:ANNULÉE : Agnieszka Roginska: Immersive Sound Expands our Reality
 : Passé\, présent et futur
DTSTART;TZID=America/Toronto;VALUE=DATE-TIME:20240318T180000
DTEND;TZID=America/Toronto;VALUE=DATE-TIME:20240318T190000
DTSTAMP;VALUE=DATE-TIME:20260424T030406Z
UID:8cbacfa684394a98b432c038f1f41137@project_zeoclients
CONTACT:info[AT]cirmmt[DOT]org\, info[AT]cirmmt[DOT]org
CREATED;VALUE=DATE-TIME:20230825T201004Z
DESCRIPTION:ANNULÉE : Une Conférence Émérite d'Agnieszka Roginska\, pr
 ofesseure agrégé de technologie musicale à l'université Steinhardt de 
 New York (États-Unis).
LAST-MODIFIED;VALUE=DATE-TIME:20240219T162117Z
LOCATION:Salle Tanna Schulich\, 527 rue Sherbrooke Ouest
URL:https://www.cirmmt.org/fr/events/distinguished-lectures/agnieszka-rogi
 nska
END:VEVENT
BEGIN:VTIMEZONE
TZID:America/Toronto
X-LIC-LOCATION:America/Toronto
BEGIN:DAYLIGHT
DTSTART;VALUE=DATE-TIME:20240310T030000
TZNAME:EDT
TZOFFSETFROM:-0500
TZOFFSETTO:-0400
END:DAYLIGHT
END:VTIMEZONE
END:VCALENDAR
