BEGIN:VCALENDAR
VERSION:2.0
PRODID:-//Plone.org//NONSGML plone.app.event//EN
X-WR-TIMEZONE:America/Toronto
BEGIN:VEVENT
SUMMARY:Andrew McPherson: Aptitude sensorimotrice et facteurs culturels da
 ns la conception d'instruments de musique numériques
DTSTART;TZID=America/Toronto;VALUE=DATE-TIME:20220912T170000
DTEND;TZID=America/Toronto;VALUE=DATE-TIME:20220912T180000
DTSTAMP;VALUE=DATE-TIME:20260421T150545Z
UID:3decc00019984b62ab84a2281aee1074@project_zeoclients
CONTACT:info [AROBAS] cirmmt.org
CREATED;VALUE=DATE-TIME:20220707T155653Z
DESCRIPTION:Une Conférence Emérite d'Andrew McPherson\,  professeur asso
 cié à l'université Queen Mary de Londres\, Royaume-Uni
LAST-MODIFIED;VALUE=DATE-TIME:20220831T150522Z
LOCATION:Tanna Hall\, 527 Rue Sherbrooke Ouest
URL:https://www.cirmmt.org/fr/events/distinguished-lectures/andrew-mcphers
 on
END:VEVENT
BEGIN:VTIMEZONE
TZID:America/Toronto
X-LIC-LOCATION:America/Toronto
BEGIN:DAYLIGHT
DTSTART;VALUE=DATE-TIME:20220313T030000
TZNAME:EDT
TZOFFSETFROM:-0500
TZOFFSETTO:-0400
END:DAYLIGHT
END:VTIMEZONE
END:VCALENDAR
