BEGIN:VCALENDAR
VERSION:2.0
PRODID:-//Plone.org//NONSGML plone.app.event//EN
X-WR-TIMEZONE:America/Toronto
BEGIN:VEVENT
SUMMARY:Antonio Camurri\, University of Genova\, Italy: "Music and emotion
 : Toward computational models of empathy and entrainment"
DTSTART;TZID=America/Montreal;VALUE=DATE-TIME:20090416T163000
DTEND;TZID=America/Montreal;VALUE=DATE-TIME:20090416T180000
DTSTAMP;VALUE=DATE-TIME:20260422T030302Z
UID:461dee6c2cfd414699b5b50f91cdeb2f@project_zeoclients
CREATED;VALUE=DATE-TIME:20210321T215717Z
DESCRIPTION:This lecture is co-sponsored by BRAMS.
LAST-MODIFIED;VALUE=DATE-TIME:20210420T150929Z
LOCATION:Room C-201\, Schulich School of Music\, McGill University
URL:https://www.cirmmt.org/fr/events/distinguished-lectures/camurri
END:VEVENT
BEGIN:VTIMEZONE
TZID:America/Montreal
X-LIC-LOCATION:America/Montreal
BEGIN:DAYLIGHT
DTSTART;VALUE=DATE-TIME:20090308T030000
TZNAME:EDT
TZOFFSETFROM:-0500
TZOFFSETTO:-0400
END:DAYLIGHT
END:VTIMEZONE
END:VCALENDAR
