BEGIN:VCALENDAR
VERSION:2.0
PRODID:-//Plone.org//NONSGML plone.app.event//EN
X-WR-TIMEZONE:America/Toronto
BEGIN:VEVENT
SUMMARY:Géométries de la hauteur et du temps dans la musique
DTSTART;TZID=America/Toronto;VALUE=DATE-TIME:20221107T170000
DTEND;TZID=America/Toronto;VALUE=DATE-TIME:20221107T180000
DTSTAMP;VALUE=DATE-TIME:20260423T070939Z
UID:3105654859d14c489c1d76d56b8c3ffe@project_zeoclients
CONTACT:info [AROBAS] cirmmt.org
CREATED;VALUE=DATE-TIME:20220614T191213Z
DESCRIPTION:Une Conférence Emérite de Carol Krumhansl\, professeure de p
 sychologie à l'université Cornell.
LAST-MODIFIED;VALUE=DATE-TIME:20220914T153208Z
LOCATION:Tanna Hall\, 527 Rue Sherbrooke Ouest
URL:https://www.cirmmt.org/fr/events/distinguished-lectures/carol-krumhans
 l
END:VEVENT
BEGIN:VTIMEZONE
TZID:America/Toronto
X-LIC-LOCATION:America/Toronto
BEGIN:STANDARD
DTSTART;VALUE=DATE-TIME:20221106T010000
TZNAME:EST
TZOFFSETFROM:-0400
TZOFFSETTO:-0500
END:STANDARD
END:VTIMEZONE
END:VCALENDAR
