BEGIN:VCALENDAR
VERSION:2.0
PRODID:-//Plone.org//NONSGML plone.app.event//EN
X-WR-TIMEZONE:America/Toronto
BEGIN:VEVENT
SUMMARY:Christian Hugonnet: Le label "Qualité sonore"
DTSTART;TZID=America/Toronto;VALUE=DATE-TIME:20230320T170000
DTEND;TZID=America/Toronto;VALUE=DATE-TIME:20230320T180000
DTSTAMP;VALUE=DATE-TIME:20260421T175736Z
UID:940e21d822e541069afbfff5b1c7ed3c@project_zeoclients
CONTACT:info [AT] cirmmt.org\, https://lasemainedusoncanada.ca/
CREATED;VALUE=DATE-TIME:20230220T155947Z
DESCRIPTION:Une Conférence Émérite de Christian Hugonnet\, président-f
 ondateur de la Semaine du Son
LAST-MODIFIED;VALUE=DATE-TIME:20230307T135937Z
LOCATION:Salle Tanna Schulich\, 527 rue Sherbrooke O\, Montréal\, Québec
  H3A 1E3
URL:https://www.cirmmt.org/fr/events/distinguished-lectures/christian-hugo
 nnet
END:VEVENT
BEGIN:VTIMEZONE
TZID:America/Toronto
X-LIC-LOCATION:America/Toronto
BEGIN:DAYLIGHT
DTSTART;VALUE=DATE-TIME:20230312T030000
TZNAME:EDT
TZOFFSETFROM:-0500
TZOFFSETTO:-0400
END:DAYLIGHT
END:VTIMEZONE
END:VCALENDAR
