BEGIN:VCALENDAR
VERSION:2.0
PRODID:-//Plone.org//NONSGML plone.app.event//EN
X-WR-TIMEZONE:America/Toronto
BEGIN:VEVENT
SUMMARY:Matthew Smith - Composer pour un chef d'orchestre involontaire : l
 e son des jeux vidéo
DTSTART;TZID=America/Toronto;VALUE=DATE-TIME:20230206T170000
DTEND;TZID=America/Toronto;VALUE=DATE-TIME:20230206T180000
DTSTAMP;VALUE=DATE-TIME:20260421T133719Z
UID:62ad06d353cf4e2c8f0f78066cf22f68@project_zeoclients
CONTACT:info[AT]cirmmt.org
CREATED;VALUE=DATE-TIME:20221129T195246Z
DESCRIPTION:Une Conférence émérite de Matthew Smith\, directeur audio d
 e jeux vidéo basé à Montréal
LAST-MODIFIED;VALUE=DATE-TIME:20230130T171425Z
LOCATION:Salle Tanna Schulich\, 527 Sherbrooke O.
URL:https://www.cirmmt.org/fr/events/distinguished-lectures/matthew-smith
END:VEVENT
BEGIN:VTIMEZONE
TZID:America/Toronto
X-LIC-LOCATION:America/Toronto
BEGIN:STANDARD
DTSTART;VALUE=DATE-TIME:20221106T010000
TZNAME:EST
TZOFFSETFROM:-0400
TZOFFSETTO:-0500
END:STANDARD
END:VTIMEZONE
END:VCALENDAR
