BEGIN:VCALENDAR
VERSION:2.0
PRODID:-//Plone.org//NONSGML plone.app.event//EN
X-WR-TIMEZONE:America/Toronto
BEGIN:VEVENT
SUMMARY:Nadine Schütz — Composer (avec) des lieux : à la frontière en
 tre paysage sonore et musique spatiale
DTSTART;TZID=America/Toronto;VALUE=DATE-TIME:20251201T180000
DTEND;TZID=America/Toronto;VALUE=DATE-TIME:20251201T190000
DTSTAMP;VALUE=DATE-TIME:20260421T110813Z
UID:e4710b34bdfc4bcdbc138094cfbaebe9@project_zeoclients
CONTACT:info [AROBASE] cirmmt [POINT] org
CREATED;VALUE=DATE-TIME:20251015T143731Z
DESCRIPTION:Conférence émérite de Nadine Schütz\, artiste associée à
  l'IRCAM-STMS (Centre Pompidou\, Paris) et chargée de cours au départeme
 nt d'architecture de l'ETH Zurich
LAST-MODIFIED;VALUE=DATE-TIME:20251016T140726Z
LOCATION:Salle multimédia MMR (-2 étage)\, Pavillon de musique Elizabeth
  Wirth\, 527\, Sherbrooke O
URL:https://www.cirmmt.org/fr/events/distinguished-lectures/nadine-schutz
END:VEVENT
BEGIN:VTIMEZONE
TZID:America/Toronto
X-LIC-LOCATION:America/Toronto
BEGIN:STANDARD
DTSTART;VALUE=DATE-TIME:20251102T010000
TZNAME:EST
TZOFFSETFROM:-0400
TZOFFSETTO:-0500
END:STANDARD
END:VTIMEZONE
END:VCALENDAR
