BEGIN:VCALENDAR
VERSION:2.0
PRODID:-//Plone.org//NONSGML plone.app.event//EN
X-WR-TIMEZONE:America/Toronto
BEGIN:VEVENT
SUMMARY:Pamela Z : Accidents heureux et frontières floues
DTSTART;TZID=America/Toronto;VALUE=DATE-TIME:20230123T170000
DTEND;TZID=America/Toronto;VALUE=DATE-TIME:20230123T180000
DTSTAMP;VALUE=DATE-TIME:20260421T133810Z
UID:2ed5314100924b3b96a2bd908f7e8f77@project_zeoclients
CONTACT:info[AROBAS]cirmmt.org
CREATED;VALUE=DATE-TIME:20220824T192306Z
DESCRIPTION:Une Conférence Émérite de Pamela Z\, compositrice/interprè
 te et artiste médiatique travaillant avec la voix\, le traitement électr
 onique en direct\, le son échantillonné et la vidéo (États-Unis).
LAST-MODIFIED;VALUE=DATE-TIME:20220831T151444Z
LOCATION:Tanna Hall\, 527 Rue Sherbrooke Ouest
URL:https://www.cirmmt.org/fr/events/distinguished-lectures/pamela-z
END:VEVENT
BEGIN:VTIMEZONE
TZID:America/Toronto
X-LIC-LOCATION:America/Toronto
BEGIN:STANDARD
DTSTART;VALUE=DATE-TIME:20221106T010000
TZNAME:EST
TZOFFSETFROM:-0400
TZOFFSETTO:-0500
END:STANDARD
END:VTIMEZONE
END:VCALENDAR
