BEGIN:VCALENDAR
VERSION:2.0
PRODID:-//Plone.org//NONSGML plone.app.event//EN
X-WR-TIMEZONE:America/Toronto
BEGIN:VEVENT
SUMMARY:Jim Woodhouse\, Cambridge University\, UK: "Reverse engineering th
 e violin"
DTSTART;TZID=America/Montreal;VALUE=DATE-TIME:20100325T163000
DTEND;TZID=America/Montreal;VALUE=DATE-TIME:20100325T180000
DTSTAMP;VALUE=DATE-TIME:20260422T014021Z
UID:215df51a859a4e0baa2e97fe559b83b0@project_zeoclients
CREATED;VALUE=DATE-TIME:20210321T215756Z
LAST-MODIFIED;VALUE=DATE-TIME:20210420T150933Z
LOCATION:C-201\, Strathcona Music Building\, 555 Sherbrooke St. West\, Mon
 treal
URL:https://www.cirmmt.org/fr/events/distinguished-lectures/woodhouse
END:VEVENT
BEGIN:VTIMEZONE
TZID:America/Montreal
X-LIC-LOCATION:America/Montreal
BEGIN:DAYLIGHT
DTSTART;VALUE=DATE-TIME:20100314T030000
TZNAME:EDT
TZOFFSETFROM:-0500
TZOFFSETTO:-0400
END:DAYLIGHT
END:VTIMEZONE
END:VCALENDAR
